BEGIN:VCALENDAR
VERSION:2.0
PRODID:-//sd81.bc.ca//Bot Events Plugin//EN
CALSCALE:GREGORIAN
METHOD:PUBLISH
X-WR-CALNAME:School District No. 81 Events
X-WR-CALDESC:Events from https://sd81.bc.ca
BEGIN:VEVENT
UID:3303@sd81.bc.ca
DTSTAMP:20260420T140149Z
DTSTART:20260423T010000Z
DTEND:20260423T020000Z
X-MICROSOFT-CDO-ALLDAYEVENT:FALSE
SUMMARY:Board Meeting
URL:https://sd81.bc.ca/event/board-meeting-9/
END:VEVENT
BEGIN:VEVENT
UID:3305@sd81.bc.ca
DTSTAMP:20260420T140149Z
DTSTART:20260514T010000Z
DTEND:20260514T020000Z
X-MICROSOFT-CDO-ALLDAYEVENT:FALSE
SUMMARY:Board Meeting
URL:https://sd81.bc.ca/event/board-meeting-10/
END:VEVENT
BEGIN:VEVENT
UID:3661@sd81.bc.ca
DTSTAMP:20260420T140149Z
DTSTART;VALUE=DATE:20260514
DTEND;VALUE=DATE:20260515
X-MICROSOFT-CDO-ALLDAYEVENT:TRUE
SUMMARY:District Inservice (No School)
URL:https://sd81.bc.ca/event/district-inservice-no-school/
END:VEVENT
BEGIN:VEVENT
UID:1714@sd81.bc.ca
DTSTAMP:20260420T140149Z
DTSTART;VALUE=DATE:20260515
DTEND;VALUE=DATE:20260516
X-MICROSOFT-CDO-ALLDAYEVENT:TRUE
SUMMARY:May Long (Vacation)
URL:https://sd81.bc.ca/event/may-long-vacation/
END:VEVENT
BEGIN:VEVENT
UID:1715@sd81.bc.ca
DTSTAMP:20260420T140149Z
DTSTART;VALUE=DATE:20260518
DTEND;VALUE=DATE:20260519
X-MICROSOFT-CDO-ALLDAYEVENT:TRUE
SUMMARY:Victoria Day
DESCRIPTION:School not in session
URL:https://sd81.bc.ca/event/victoria-day/
END:VEVENT
BEGIN:VEVENT
UID:3307@sd81.bc.ca
DTSTAMP:20260420T140149Z
DTSTART:20260604T010000Z
DTEND:20260604T020000Z
X-MICROSOFT-CDO-ALLDAYEVENT:FALSE
SUMMARY:Board Meeting
URL:https://sd81.bc.ca/event/board-meeting-11/
END:VEVENT
BEGIN:VEVENT
UID:1716@sd81.bc.ca
DTSTAMP:20260420T140149Z
DTSTART;VALUE=DATE:20260619
DTEND;VALUE=DATE:20260620
X-MICROSOFT-CDO-ALLDAYEVENT:TRUE
SUMMARY:Last Day Elementary
URL:https://sd81.bc.ca/event/last-day-elementary/
END:VEVENT
BEGIN:VEVENT
UID:1717@sd81.bc.ca
DTSTAMP:20260420T140149Z
DTSTART;VALUE=DATE:20260625
DTEND;VALUE=DATE:20260626
X-MICROSOFT-CDO-ALLDAYEVENT:TRUE
SUMMARY:Last Day Secondary
URL:https://sd81.bc.ca/event/last-day-secondary/
END:VEVENT
END:VCALENDAR
